BEGIN:VCALENDAR
VERSION:2.0
PRODID:-//Tukios.com/
BEGIN:VEVENT
UID:002c4064-d099-40d1-b864-66daed622c4c@www.boyntonmemorial.com
DTSTAMP:20260421T200002Z
DTSTART:20260427T140000Z
DTEND:20260427T150000Z
SUMMARY:Funeral Mass
DESCRIPTION:
URL:https://www.boyntonmemorial.com/obituaries/jeanne-milewski
LOCATION:St Thomas More Catholic Church Boynton 10935 S Military Trl  
	Boynton Beach FL 33436
GEO:26.5146647;-80.1240154
END:VEVENT
END:VCALENDAR