BEGIN:VCALENDAR
VERSION:2.0
PRODID:-//Tukios.com/
BEGIN:VEVENT
UID:2b701c83-7dc2-4feb-b65a-fad7d8eb757e@www.boyntonmemorial.com
DTSTAMP:20260424T222419Z
DTSTART:20260529T170000Z
DTEND:20260529T180000Z
SUMMARY:Burial
DESCRIPTION:
URL:https://www.boyntonmemorial.com/obituaries/richard-barnhill
LOCATION:South Florida National Cemetery 6501 FL-7  Lake Worth FL 33449
GEO:26.5807153;-80.209081
END:VEVENT
END:VCALENDAR