BEGIN:VCALENDAR
VERSION:2.0
PRODID:-//Tukios.com/
BEGIN:VEVENT
UID:b1a19a3b-b36d-40b9-b1a1-8def19649505@www.boyntonmemorial.com
DTSTAMP:20260420T211241Z
DTSTART:20260520T153000Z
DTEND:20260520T163000Z
SUMMARY:Celebration of Life
DESCRIPTION:
URL:https://www.boyntonmemorial.com/obituaries/sean-j-oconnor
LOCATION:Eagles Nest Country Club 12801 Stone Hill Road  Phoenix MD 21131
GEO:39.4707778;-76.5560481
END:VEVENT
END:VCALENDAR